BEGIN:VCALENDAR
VERSION:2.0
PRODID:icalendar-ruby
CALSCALE:GREGORIAN
METHOD:PUBLISH
BEGIN:VEVENT
DTSTAMP:20260424T082635Z
UID:d692aaed-e8ed-49ab-a910-42da877753f6
DTSTART;VALUE=DATE:20130528
DTEND;VALUE=DATE:20130528
DESCRIPTION:Seatac BMX
LOCATION:1855 S 136th St  Sea Tac WA 98168 USA
SUMMARY:Practice
URL:/site/bmx_races/38199
END:VEVENT
END:VCALENDAR
