BEGIN:VCALENDAR
VERSION:2.0
PRODID:icalendar-ruby
CALSCALE:GREGORIAN
METHOD:PUBLISH
BEGIN:VEVENT
DTSTAMP:20260424T065927Z
UID:2a49122c-9119-4fc7-82bc-0d3382645eb2
DTSTART;VALUE=DATE:20130625
DTEND;VALUE=DATE:20130625
DESCRIPTION:Seatac BMX
LOCATION:1855 S 136th St  Sea Tac WA 98168 USA
SUMMARY:Practice
URL:/site/bmx_races/38211
END:VEVENT
END:VCALENDAR
