BEGIN:VCALENDAR
VERSION:2.0
PRODID:icalendar-ruby
CALSCALE:GREGORIAN
METHOD:PUBLISH
BEGIN:VEVENT
DTSTAMP:20260424T052858Z
UID:0bc6ac83-efe1-41fc-bce8-15fb3baceb8d
DTSTART;VALUE=DATE:20130709
DTEND;VALUE=DATE:20130709
DESCRIPTION:Seatac BMX
LOCATION:1855 S 136th St  Sea Tac WA 98168 USA
SUMMARY:Practice
URL:/site/bmx_races/38220
END:VEVENT
END:VCALENDAR
