BEGIN:VCALENDAR
VERSION:2.0
PRODID:icalendar-ruby
CALSCALE:GREGORIAN
METHOD:PUBLISH
BEGIN:VEVENT
DTSTAMP:20260425T202302Z
UID:55b104da-25d8-4cf5-a574-e69fd9f94ac1
DTSTART;VALUE=DATE:20180820
DTEND;VALUE=DATE:20180820
DESCRIPTION:Stouffville BMX
LOCATION:3291 Stouffville Rd  Whitchurch-Stouffville ON L4A7X5 CAN
SUMMARY:Practice
URL:/site/bmx_races/382297
END:VEVENT
END:VCALENDAR
