BEGIN:VCALENDAR
VERSION:2.0
PRODID:icalendar-ruby
CALSCALE:GREGORIAN
METHOD:PUBLISH
BEGIN:VEVENT
DTSTAMP:20260420T170207Z
UID:327ba4a7-c737-406f-b565-364fdb6dbe0b
DTSTART;VALUE=DATE:20180424
DTEND;VALUE=DATE:20180424
DESCRIPTION:Sand Springs BMX
LOCATION:2600 S River City Park Rd  Sand Springs OK 74063 USA
SUMMARY:Practice
URL:/site/bmx_races/382345
END:VEVENT
END:VCALENDAR
