BEGIN:VCALENDAR
VERSION:2.0
PRODID:icalendar-ruby
CALSCALE:GREGORIAN
METHOD:PUBLISH
BEGIN:VEVENT
DTSTAMP:20260424T053014Z
UID:ae5f7174-ded3-4f4a-8efa-582daa01db26
DTSTART;VALUE=DATE:20130728
DTEND;VALUE=DATE:20130728
DESCRIPTION:Seatac BMX
LOCATION:1855 S 136th St  Sea Tac WA 98168 USA
SUMMARY:Local Race Single
URL:/site/bmx_races/38240
END:VEVENT
END:VCALENDAR
