BEGIN:VCALENDAR
VERSION:2.0
PRODID:icalendar-ruby
CALSCALE:GREGORIAN
METHOD:PUBLISH
BEGIN:VEVENT
DTSTAMP:20260423T181540Z
UID:bf95b9c0-174f-4f99-ab6b-f4a42c0e51c5
DTSTART;VALUE=DATE:20180930
DTEND;VALUE=DATE:20180930
DESCRIPTION:Goodyear BMX Raceway
LOCATION:15660 W Roeser Rd  Goodyear AZ 85338 USA
SUMMARY:Local Race Single
URL:/site/bmx_races/382604
END:VEVENT
END:VCALENDAR
