BEGIN:VCALENDAR
VERSION:2.0
PRODID:icalendar-ruby
CALSCALE:GREGORIAN
METHOD:PUBLISH
BEGIN:VEVENT
DTSTAMP:20260424T004054Z
UID:84bfe3d5-8dd6-453c-b400-a7e27f85a5f7
DTSTART;VALUE=DATE:20180522
DTEND;VALUE=DATE:20180522
DESCRIPTION:Goodyear BMX Raceway
LOCATION:15660 W Roeser Rd  Goodyear AZ 85338 USA
SUMMARY:Standard Single Single
URL:/site/bmx_races/382721
END:VEVENT
END:VCALENDAR
