BEGIN:VCALENDAR
VERSION:2.0
PRODID:icalendar-ruby
CALSCALE:GREGORIAN
METHOD:PUBLISH
BEGIN:VEVENT
DTSTAMP:20260423T131745Z
UID:c90dd963-4125-4bf2-a40b-076ea2909dca
DTSTART;VALUE=DATE:20181204
DTEND;VALUE=DATE:20181204
DESCRIPTION:Goodyear BMX Raceway
LOCATION:15660 W Roeser Rd  Goodyear AZ 85338 USA
SUMMARY:Standard Single Single
URL:/site/bmx_races/382749
END:VEVENT
END:VCALENDAR
