BEGIN:VCALENDAR
VERSION:2.0
PRODID:icalendar-ruby
CALSCALE:GREGORIAN
METHOD:PUBLISH
BEGIN:VEVENT
DTSTAMP:20260424T023838Z
UID:bb00e137-5f0b-449e-93a8-b8ae31d2e4b1
DTSTART;VALUE=DATE:20130917
DTEND;VALUE=DATE:20130917
DESCRIPTION:Seatac BMX
LOCATION:1855 S 136th St  Sea Tac WA 98168 USA
SUMMARY:Practice
URL:/site/bmx_races/38281
END:VEVENT
END:VCALENDAR
