BEGIN:VCALENDAR
VERSION:2.0
PRODID:icalendar-ruby
CALSCALE:GREGORIAN
METHOD:PUBLISH
BEGIN:VEVENT
DTSTAMP:20260424T023830Z
UID:4388fb6c-20fb-4544-a406-f86c393ca1ea
DTSTART;VALUE=DATE:20130919
DTEND;VALUE=DATE:20130919
DESCRIPTION:Seatac BMX
LOCATION:1855 S 136th St  Sea Tac WA 98168 USA
SUMMARY:Local Race Single
URL:/site/bmx_races/38282
END:VEVENT
END:VCALENDAR
