BEGIN:VCALENDAR
VERSION:2.0
PRODID:icalendar-ruby
CALSCALE:GREGORIAN
METHOD:PUBLISH
BEGIN:VEVENT
DTSTAMP:20260424T010103Z
UID:90cd05f5-f739-4750-9e21-fc77c290c16a
DTSTART;VALUE=DATE:20131015
DTEND;VALUE=DATE:20131015
DESCRIPTION:Seatac BMX
LOCATION:1855 S 136th St  Sea Tac WA 98168 USA
SUMMARY:Practice
URL:/site/bmx_races/38295
END:VEVENT
END:VCALENDAR
