BEGIN:VCALENDAR
VERSION:2.0
PRODID:icalendar-ruby
CALSCALE:GREGORIAN
METHOD:PUBLISH
BEGIN:VEVENT
DTSTAMP:20260424T010425Z
UID:667ff5db-03e8-4f5f-b4f2-ec3a86699fc1
DTSTART;VALUE=DATE:20131019
DTEND;VALUE=DATE:20131019
DESCRIPTION:Seatac BMX
LOCATION:1855 S 136th St  Sea Tac WA 98168 USA
SUMMARY:Local Race Single
URL:/site/bmx_races/38296
END:VEVENT
END:VCALENDAR
