BEGIN:VCALENDAR
VERSION:2.0
PRODID:icalendar-ruby
CALSCALE:GREGORIAN
METHOD:PUBLISH
BEGIN:VEVENT
DTSTAMP:20260424T010331Z
UID:e3e07dc3-3d7b-44f8-bce9-16ba48bc0d1a
DTSTART;VALUE=DATE:20131027
DTEND;VALUE=DATE:20131027
DESCRIPTION:Seatac BMX
LOCATION:1855 S 136th St  Sea Tac WA 98168 USA
SUMMARY:Local Race Single
URL:/site/bmx_races/38300
END:VEVENT
END:VCALENDAR
