BEGIN:VCALENDAR
VERSION:2.0
PRODID:icalendar-ruby
CALSCALE:GREGORIAN
METHOD:PUBLISH
BEGIN:VEVENT
DTSTAMP:20260419T181326Z
UID:dc2e5b9f-1240-4f14-9dc9-e8fd66edb1e8
DTSTART;VALUE=DATE:20180815
DTEND;VALUE=DATE:20180815
DESCRIPTION:Dacono BMX
LOCATION:113 Forest Ave  Dacono CO 80514 USA
SUMMARY:Standard Single Single
URL:/site/bmx_races/383196
END:VEVENT
END:VCALENDAR
