BEGIN:VCALENDAR
VERSION:2.0
PRODID:icalendar-ruby
CALSCALE:GREGORIAN
METHOD:PUBLISH
BEGIN:VEVENT
DTSTAMP:20260424T022434Z
UID:5a00bfef-e638-417e-bb14-add97309aa5b
DTSTART;VALUE=DATE:20130602
DTEND;VALUE=DATE:20130602
DESCRIPTION:Rockford BMX
LOCATION:4950 Safford Rd  Rockford IL 61101 USA
SUMMARY:Local Race Single
URL:/site/bmx_races/38338
END:VEVENT
END:VCALENDAR
