BEGIN:VCALENDAR
VERSION:2.0
PRODID:icalendar-ruby
CALSCALE:GREGORIAN
METHOD:PUBLISH
BEGIN:VEVENT
DTSTAMP:20260424T155221Z
UID:79b6ae6e-7022-4b17-91a8-eddbd18e53f2
DTSTART;VALUE=DATE:20181021
DTEND;VALUE=DATE:20181021
DESCRIPTION:Richfield Park BMX
LOCATION:6550 N Irish Road  Davison MI 48423 USA
SUMMARY:Standard Single Single
URL:/site/bmx_races/383629
END:VEVENT
END:VCALENDAR
