BEGIN:VCALENDAR
VERSION:2.0
PRODID:icalendar-ruby
CALSCALE:GREGORIAN
METHOD:PUBLISH
BEGIN:VEVENT
DTSTAMP:20260424T184216Z
UID:470f8d70-dd37-4f02-a853-18cb7e8ac3c1
DTSTART;VALUE=DATE:20181014
DTEND;VALUE=DATE:20181014
DESCRIPTION:Richfield Park BMX
LOCATION:6550 N Irish Road  Davison MI 48423 USA
SUMMARY:Warnicke Double Double
URL:/site/bmx_races/383631
END:VEVENT
END:VCALENDAR
