BEGIN:VCALENDAR
VERSION:2.0
PRODID:icalendar-ruby
CALSCALE:GREGORIAN
METHOD:PUBLISH
BEGIN:VEVENT
DTSTAMP:20260424T010208Z
UID:af974bd5-e76b-4c9a-9f58-4705a0271d77
DTSTART;VALUE=DATE:20180419
DTEND;VALUE=DATE:20180419
DESCRIPTION:Spokane BMX
LOCATION:5701 N Assembly St  Spokane WA 99205 USA
SUMMARY:Practice
URL:/site/bmx_races/383797
END:VEVENT
END:VCALENDAR
