BEGIN:VCALENDAR
VERSION:2.0
PRODID:icalendar-ruby
CALSCALE:GREGORIAN
METHOD:PUBLISH
BEGIN:VEVENT
DTSTAMP:20260420T232326Z
UID:0a50aa74-3724-4e44-a7e0-851d6d285d75
DTSTART;VALUE=DATE:20180404
DTEND;VALUE=DATE:20180404
DESCRIPTION:Redwood Empire BMX
LOCATION:201 Vance Ave  Samoa CA 95564 USA
SUMMARY:Standard Single Single
URL:/site/bmx_races/383799
END:VEVENT
END:VCALENDAR
