BEGIN:VCALENDAR
VERSION:2.0
PRODID:icalendar-ruby
CALSCALE:GREGORIAN
METHOD:PUBLISH
BEGIN:VEVENT
DTSTAMP:20260423T121509Z
UID:36b5e44a-472d-4ad7-83af-0ac9fdf728fa
DTSTART;VALUE=DATE:20180421
DTEND;VALUE=DATE:20180421
DESCRIPTION:Cargill Park BMX
LOCATION:2800 Cargill Drive  Shreveport LA 71108 USA
SUMMARY:Clinic
URL:/site/bmx_races/383981
END:VEVENT
END:VCALENDAR
