BEGIN:VCALENDAR
VERSION:2.0
PRODID:icalendar-ruby
CALSCALE:GREGORIAN
METHOD:PUBLISH
BEGIN:VEVENT
DTSTAMP:20260423T034404Z
UID:21bd5bf9-23f9-4a8a-9536-4a2b6dae4a33
DTSTART;VALUE=DATE:20180620
DTEND;VALUE=DATE:20180620
DESCRIPTION:South Towns BMX
LOCATION:2982 Lakeview Rd  Hamburg NY 14075 USA
SUMMARY:Practice
URL:/site/bmx_races/384001
END:VEVENT
END:VCALENDAR
