BEGIN:VCALENDAR
VERSION:2.0
PRODID:icalendar-ruby
CALSCALE:GREGORIAN
METHOD:PUBLISH
BEGIN:VEVENT
DTSTAMP:20260424T073945Z
UID:fbe54c74-4ab1-466f-8819-8b2eb6ade35f
DTSTART;VALUE=DATE:20180428
DTEND;VALUE=DATE:20180428
DESCRIPTION:Abbotsford BMX
LOCATION:32470 Haida Drive  Abbotsford BC V2T5A6 CAN
SUMMARY:Practice
URL:/site/bmx_races/384359
END:VEVENT
END:VCALENDAR
