BEGIN:VCALENDAR
VERSION:2.0
PRODID:icalendar-ruby
CALSCALE:GREGORIAN
METHOD:PUBLISH
BEGIN:VEVENT
DTSTAMP:20260422T104705Z
UID:7d8ad891-2254-4fcb-8786-8fbf0230e224
DTSTART;VALUE=DATE:20180501
DTEND;VALUE=DATE:20180501
DESCRIPTION:Peninsula Indoor BMX
LOCATION:5867 Dogwood Road Se  Port Orchard WA 98367 USA
SUMMARY:Practice
URL:/site/bmx_races/384546
END:VEVENT
END:VCALENDAR
