BEGIN:VCALENDAR
VERSION:2.0
PRODID:icalendar-ruby
CALSCALE:GREGORIAN
METHOD:PUBLISH
BEGIN:VEVENT
DTSTAMP:20260424T110138Z
UID:d3f77045-ff07-4149-91cd-dbb7b5b3bab2
DTSTART;VALUE=DATE:20180604
DTEND;VALUE=DATE:20180604
DESCRIPTION:Squamish BMX Racing Track
LOCATION:1009 Centennial Way  Squamish BC V0N1T0 CAN
SUMMARY:Standard Single Single
URL:/site/bmx_races/384880
END:VEVENT
END:VCALENDAR
