BEGIN:VCALENDAR
VERSION:2.0
PRODID:icalendar-ruby
CALSCALE:GREGORIAN
METHOD:PUBLISH
BEGIN:VEVENT
DTSTAMP:20260424T030239Z
UID:f0b1c82e-45bc-455c-a755-49dedaf4af95
DTSTART;VALUE=DATE:20180712
DTEND;VALUE=DATE:20180712
DESCRIPTION:Abbotsford BMX
LOCATION:32470 Haida Drive  Abbotsford BC V2T5A6 CAN
SUMMARY:Standard Single Single
URL:/site/bmx_races/385002
END:VEVENT
END:VCALENDAR
