BEGIN:VCALENDAR
VERSION:2.0
PRODID:icalendar-ruby
CALSCALE:GREGORIAN
METHOD:PUBLISH
BEGIN:VEVENT
DTSTAMP:20260423T021615Z
UID:daea0575-a17b-47a7-b34b-24880eca94e1
DTSTART;VALUE=DATE:20180927
DTEND;VALUE=DATE:20180927
DESCRIPTION:Marquette BMX
LOCATION:910 Hawley Street  Marquette MI 49855 USA
SUMMARY:Local Race Single
URL:/site/bmx_races/385113
END:VEVENT
END:VCALENDAR
