BEGIN:VCALENDAR
VERSION:2.0
PRODID:icalendar-ruby
CALSCALE:GREGORIAN
METHOD:PUBLISH
BEGIN:VEVENT
DTSTAMP:20260423T202941Z
UID:7c765321-ea0a-43ad-a12c-5d4cbf0aa678
DTSTART;VALUE=DATE:20180605
DTEND;VALUE=DATE:20180605
DESCRIPTION:Penticton BMX
LOCATION:630 Munson Mountain Road  Penticton BC V2A 8S5 CAN
SUMMARY:Local Race Single
URL:/site/bmx_races/385502
END:VEVENT
END:VCALENDAR
