BEGIN:VCALENDAR
VERSION:2.0
PRODID:icalendar-ruby
CALSCALE:GREGORIAN
METHOD:PUBLISH
BEGIN:VEVENT
DTSTAMP:20260423T085522Z
UID:faa2cba0-daa9-4192-bc46-70159493c183
DTSTART;VALUE=DATE:20180630
DTEND;VALUE=DATE:20180630
DESCRIPTION:Cargill Park BMX
LOCATION:2800 Cargill Drive  Shreveport LA 71108 USA
SUMMARY:Olympic Single
URL:/site/bmx_races/385576
END:VEVENT
END:VCALENDAR
