BEGIN:VCALENDAR
VERSION:2.0
PRODID:icalendar-ruby
CALSCALE:GREGORIAN
METHOD:PUBLISH
BEGIN:VEVENT
DTSTAMP:20260424T224624Z
UID:3023ead7-8ddc-4275-b07d-886ac4cafb57
DTSTART;VALUE=DATE:20180814
DTEND;VALUE=DATE:20180814
DESCRIPTION:Chehalem Valley BMX
LOCATION:1201 Blaine St  Newberg OR 97132 USA
SUMMARY:Standard Single Single
URL:/site/bmx_races/385699
END:VEVENT
END:VCALENDAR
