BEGIN:VCALENDAR
VERSION:2.0
PRODID:icalendar-ruby
CALSCALE:GREGORIAN
METHOD:PUBLISH
BEGIN:VEVENT
DTSTAMP:20260420T082030Z
UID:56b6e172-35ae-49a4-a0e0-1bdb1aeaaf18
DTSTART;VALUE=DATE:20180612
DTEND;VALUE=DATE:20180612
DESCRIPTION:Indy Cycloplex BMX
LOCATION:3649 Cold Spring Road  Adjacent To The Major Taylor Velodrome INDI
 ANAPOLIS IN 46222 USA
SUMMARY:Olympic Single
URL:/site/bmx_races/385874
END:VEVENT
END:VCALENDAR
