BEGIN:VCALENDAR
VERSION:2.0
PRODID:icalendar-ruby
CALSCALE:GREGORIAN
METHOD:PUBLISH
BEGIN:VEVENT
DTSTAMP:20260426T033851Z
UID:810e8291-6025-40a9-93e9-d6c118958c0c
DTSTART;VALUE=DATE:20180531
DTEND;VALUE=DATE:20180531
DESCRIPTION:Eagle Park BMX
LOCATION:11800 N Horseshoe Bend Rd  Eagle ID 83616 USA
SUMMARY:Track Rental
URL:/site/bmx_races/385941
END:VEVENT
END:VCALENDAR
