BEGIN:VCALENDAR
VERSION:2.0
PRODID:icalendar-ruby
CALSCALE:GREGORIAN
METHOD:PUBLISH
BEGIN:VEVENT
DTSTAMP:20260426T015924Z
UID:ef61d3a6-04ac-4e20-b4c7-7adbafa79f77
DTSTART;VALUE=DATE:20180626
DTEND;VALUE=DATE:20180626
DESCRIPTION:Eagle Park BMX
LOCATION:11800 N Horseshoe Bend Rd  Eagle ID 83616 USA
SUMMARY:Track Rental
URL:/site/bmx_races/385961
END:VEVENT
END:VCALENDAR
