BEGIN:VCALENDAR
VERSION:2.0
PRODID:icalendar-ruby
CALSCALE:GREGORIAN
METHOD:PUBLISH
BEGIN:VEVENT
DTSTAMP:20260425T035439Z
UID:349a5c39-030f-4fa7-92f7-16efde34521d
DTSTART;VALUE=DATE:20180409
DTEND;VALUE=DATE:20180409
DESCRIPTION:Grand Prix BMX at SoCal Fair
LOCATION:18700 Lake Perris Dr  Perris CA 92571 USA
SUMMARY:Practice
URL:/site/bmx_races/386008
END:VEVENT
END:VCALENDAR
