BEGIN:VCALENDAR
VERSION:2.0
PRODID:icalendar-ruby
CALSCALE:GREGORIAN
METHOD:PUBLISH
BEGIN:VEVENT
DTSTAMP:20260424T161226Z
UID:f3d3e020-7c96-438b-b1a6-16d9ddf2ad8f
DTSTART;VALUE=DATE:20181210
DTEND;VALUE=DATE:20181210
DESCRIPTION:Grand Prix BMX at SoCal Fair
LOCATION:18700 Lake Perris Dr  Perris CA 92571 USA
SUMMARY:Practice
URL:/site/bmx_races/386043
END:VEVENT
END:VCALENDAR
