BEGIN:VCALENDAR
VERSION:2.0
PRODID:icalendar-ruby
CALSCALE:GREGORIAN
METHOD:PUBLISH
BEGIN:VEVENT
DTSTAMP:20260420T082010Z
UID:0b9bd638-841c-4e18-ba4f-172dbf3eeeb6
DTSTART;VALUE=DATE:20180314
DTEND;VALUE=DATE:20180314
DESCRIPTION:Naples BMX
LOCATION:4701 Golden Gate Parkway  Naples FL 34116 USA
SUMMARY:Local Race Single
URL:/site/bmx_races/386111
END:VEVENT
END:VCALENDAR
