BEGIN:VCALENDAR
VERSION:2.0
PRODID:icalendar-ruby
CALSCALE:GREGORIAN
METHOD:PUBLISH
BEGIN:VEVENT
DTSTAMP:20260420T081951Z
UID:4258b1de-a8b1-44d7-8166-f9b0a8ebd28e
DTSTART;VALUE=DATE:20180321
DTEND;VALUE=DATE:20180321
DESCRIPTION:Naples BMX
LOCATION:4701 Golden Gate Parkway  Naples FL 34116 USA
SUMMARY:Local Race Single
URL:/site/bmx_races/386112
END:VEVENT
END:VCALENDAR
