BEGIN:VCALENDAR
VERSION:2.0
PRODID:icalendar-ruby
CALSCALE:GREGORIAN
METHOD:PUBLISH
BEGIN:VEVENT
DTSTAMP:20260423T070212Z
UID:db480703-9d3a-4120-9988-812911037923
DTSTART;VALUE=DATE:20180702
DTEND;VALUE=DATE:20180702
DESCRIPTION:Grand Valley BMX
LOCATION:2785 U.S. Highway 50  Grand Junction CO 81503 USA
SUMMARY:Clinic
URL:/site/bmx_races/386200
END:VEVENT
END:VCALENDAR
