BEGIN:VCALENDAR
VERSION:2.0
PRODID:icalendar-ruby
CALSCALE:GREGORIAN
METHOD:PUBLISH
BEGIN:VEVENT
DTSTAMP:20260423T085602Z
UID:0f1d2436-f748-4c22-8b11-8a5a1b72128a
DTSTART;VALUE=DATE:20180605
DTEND;VALUE=DATE:20180605
DESCRIPTION:Grand Valley BMX
LOCATION:2785 U.S. Highway 50  Grand Junction CO 81503 USA
SUMMARY:Clinic
URL:/site/bmx_races/386209
END:VEVENT
END:VCALENDAR
