BEGIN:VCALENDAR
VERSION:2.0
PRODID:icalendar-ruby
CALSCALE:GREGORIAN
METHOD:PUBLISH
BEGIN:VEVENT
DTSTAMP:20260423T072535Z
UID:5a9edceb-36d0-4bbb-85c4-057616fe10ed
DTSTART;VALUE=DATE:20180630
DTEND;VALUE=DATE:20180630
DESCRIPTION:Yukon BMX
LOCATION:Taylor Park Sports Complex   410 N 11th St Yukon OK 73064 USA
SUMMARY:Olympic Day Single
URL:/site/bmx_races/386564
END:VEVENT
END:VCALENDAR
