BEGIN:VCALENDAR
VERSION:2.0
PRODID:icalendar-ruby
CALSCALE:GREGORIAN
METHOD:PUBLISH
BEGIN:VEVENT
DTSTAMP:20260419T175153Z
UID:9fda73b6-47ce-4d86-b14e-faeb0f613cd4
DTSTART;VALUE=DATE:20190810
DTEND;VALUE=DATE:20190810
DESCRIPTION:Peachtree BMX
LOCATION:195 Mc Intosh Trail  Peachtree City GA 30269 USA
SUMMARY:Standard Single Single
URL:/site/bmx_races/386613
END:VEVENT
END:VCALENDAR
