BEGIN:VCALENDAR
VERSION:2.0
PRODID:icalendar-ruby
CALSCALE:GREGORIAN
METHOD:PUBLISH
BEGIN:VEVENT
DTSTAMP:20260423T053144Z
UID:ff6ff493-22cf-4f25-b8a6-08ca1dc7f2c0
DTSTART;VALUE=DATE:20180830
DTEND;VALUE=DATE:20180830
DESCRIPTION:Grand Valley BMX
LOCATION:2785 U.S. Highway 50  Grand Junction CO 81503 USA
SUMMARY:Practice
URL:/site/bmx_races/386726
END:VEVENT
END:VCALENDAR
