BEGIN:VCALENDAR
VERSION:2.0
PRODID:icalendar-ruby
CALSCALE:GREGORIAN
METHOD:PUBLISH
BEGIN:VEVENT
DTSTAMP:20260425T184807Z
UID:9ba8730d-baaa-49e2-8aa5-6079fa444524
DTSTART;VALUE=DATE:20180719
DTEND;VALUE=DATE:20180719
DESCRIPTION:North Shore BMX
LOCATION:1301 Lillooet Road  North Vancouver BC V7J 3T7 CAN
SUMMARY:Clinic
URL:/site/bmx_races/386798
END:VEVENT
END:VCALENDAR
