BEGIN:VCALENDAR
VERSION:2.0
PRODID:icalendar-ruby
CALSCALE:GREGORIAN
METHOD:PUBLISH
BEGIN:VEVENT
DTSTAMP:20260425T202416Z
UID:d8b7bff6-91fe-438a-a385-87932ce2f272
DTSTART;VALUE=DATE:20180621
DTEND;VALUE=DATE:20180621
DESCRIPTION:North Shore BMX
LOCATION:1301 Lillooet Road  North Vancouver BC V7J 3T7 CAN
SUMMARY:Clinic
URL:/site/bmx_races/386805
END:VEVENT
END:VCALENDAR
