BEGIN:VCALENDAR
VERSION:2.0
PRODID:icalendar-ruby
CALSCALE:GREGORIAN
METHOD:PUBLISH
BEGIN:VEVENT
DTSTAMP:20260420T174558Z
UID:88f3cae0-db27-4cdf-bef0-b037588d8b62
DTSTART;VALUE=DATE:20180620
DTEND;VALUE=DATE:20180620
DESCRIPTION:Daytona BMX
LOCATION:1670 Strickland Range Rd  Holly Hill FL 32117 USA
SUMMARY:Local Race Single
URL:/site/bmx_races/386806
END:VEVENT
END:VCALENDAR
