BEGIN:VCALENDAR
VERSION:2.0
PRODID:icalendar-ruby
CALSCALE:GREGORIAN
METHOD:PUBLISH
BEGIN:VEVENT
DTSTAMP:20260424T181128Z
UID:cc8a7c6d-4085-4f7e-ad65-2847da59677b
DTSTART;VALUE=DATE:20180729
DTEND;VALUE=DATE:20180729
DESCRIPTION:Circle City BMX
LOCATION:Westgate Park    100 Recreation Rd Dothan AL 36305 USA
SUMMARY:Standard Single Single
URL:/site/bmx_races/386843
END:VEVENT
END:VCALENDAR
