BEGIN:VCALENDAR
VERSION:2.0
PRODID:icalendar-ruby
CALSCALE:GREGORIAN
METHOD:PUBLISH
BEGIN:VEVENT
DTSTAMP:20260424T232502Z
UID:b96800e8-a1f7-4fa0-b151-c39cdee1d90f
DTSTART;VALUE=DATE:20180726
DTEND;VALUE=DATE:20180726
DESCRIPTION:Westmoreland BMX
LOCATION:200 Park Road  Apollo PA 15613 USA
SUMMARY:Clinic
URL:/site/bmx_races/387012
END:VEVENT
END:VCALENDAR
