BEGIN:VCALENDAR
VERSION:2.0
PRODID:icalendar-ruby
CALSCALE:GREGORIAN
METHOD:PUBLISH
BEGIN:VEVENT
DTSTAMP:20260423T040805Z
UID:eca5d8fe-c408-4f23-ad9c-e6046a4f691b
DTSTART;VALUE=DATE:20181020
DTEND;VALUE=DATE:20181020
DESCRIPTION:Winchester BMX
LOCATION:1001 E. Cork Street  Winchester VA 22601 USA
SUMMARY:Standard Single Single
URL:/site/bmx_races/387073
END:VEVENT
END:VCALENDAR
