BEGIN:VCALENDAR
VERSION:2.0
PRODID:icalendar-ruby
CALSCALE:GREGORIAN
METHOD:PUBLISH
BEGIN:VEVENT
DTSTAMP:20260423T072551Z
UID:0eaa43d9-16bd-4501-b9d5-2a778f86be09
DTSTART;VALUE=DATE:20180616
DTEND;VALUE=DATE:20180616
DESCRIPTION:Yukon BMX
LOCATION:Taylor Park Sports Complex   410 N 11th St Yukon OK 73064 USA
SUMMARY:Standard Triple Triple
URL:/site/bmx_races/387104
END:VEVENT
END:VCALENDAR
