BEGIN:VCALENDAR
VERSION:2.0
PRODID:icalendar-ruby
CALSCALE:GREGORIAN
METHOD:PUBLISH
BEGIN:VEVENT
DTSTAMP:20260423T053228Z
UID:0e99aa66-b173-4b73-adf4-d09f5eadf24c
DTSTART;VALUE=DATE:20180523
DTEND;VALUE=DATE:20180523
DESCRIPTION:Yucca Valley BMX
LOCATION:6989 Sage Ave  Yucca Valley CA 92234 USA
SUMMARY:Standard Single Single
URL:/site/bmx_races/387196
END:VEVENT
END:VCALENDAR
